Workbook
Name 事業分類: [1]事業分類・区分!$B$2:$H$2

Sheet 第1号様式
A1: 第1号様式
G2: 番 号 | H2: ←各医療機関等で文書管理に使用している文書番号を記載。なければ削除でＯＫ
G3: 年 月 日
A5: 厚生労働大臣 殿
E6: 所在地
E7: 補助事業者名
E8: 代表者氏名 印
A11: 令和２年度小学校の臨時休校に伴う病院内保育所等の
A12: 対応に係る財政支援事業費補助金の交付申請書
A14: 標記について、次のとおり交付されるよう関係書類を添えて申請する。
A16: １ 国庫補助申請額 | D16: 金 | E16: =別紙１!I9 -> 0 | F16: 円
A18: ２ 所要額調書（別紙１）
A20: ３ 事業計画書及び所要額明細書（別紙２）
A22: ４ 添付書類
A23: 収入支出予算書抄本

Sheet 別紙１
A1: 別紙１
A2: 小学校の臨時休校に伴う病院内保育所等の対応に係る財政支援事業費補助金所要額調書
H4: ◯◯法人◯◯◯
H5: 所在地
A6: 事業名 | B6: 総事業費 | C6: 寄付金その他収入額 | D6: 差引 事業費 | E6: 対象経費の 支出予定額 | F6: 基準額 | G6: 選定額 | H6: 国庫補助 基本額 | I6: 国庫補助 所要額
B7: A | C7: B | D7: C=A-B | E7: D | F7: E | G7: F | H7: G | I7: H
B8: 円 | C8: 円 | D8: 円 | E8: 円 | F8: 円 | G8: 円 | H8: 円 | I8: 円
A9: 小学校の臨時休校に伴う病院内保育所等の対応に係る財政支援事業 | D9: =B9-C9 -> 0 | F9: ='別紙２（２）'!C15 -> 0 | G9: =MIN(E9,F9) -> 0 | H9: =MIN(G9,D9) -> 0 | I9: =ROUNDDOWN(H9/3,-3) -> 0

Sheet 別紙2（１）
A1: 別紙２
A3: 小学校の臨時休校に伴う病院内保育所等の対応に係る財政支援事業
A5: １．事業計画
A7: 受入児童数等について | L7: 区分
A8: 区分 | C8: 追加的に受入を行う日数 | D8: 児童全体の数 | E8: うち、新たに受け入れた児童の数 | F8: 支援員等の数 | G8: うち、新たに雇用する支援員等の数 | H8: 備考 | L8: 既存の院内保育施設を活用し受入を行う場合
A9: 午前中から受入を行う場合 の例 | C9: 6 | D9: 17 | E9: 4 | F9: 3 | G9: 1 | L9: 受入日数合計 | M9: 追加受入児童数 | N9: 受入日数最大
A10: 新たに、終日受入を行う場 合 の例 | C10: 15 | D10: 5 | E10: 5 | F10: 2 | G10: 2 | L10: =SUMIF(B$11:C$12,$L$8,C$11:C$12) -> 0 | M10: =SUMIF(B$11:E$12,$L$8,E$11:E$12) -> 0 | N10: =DMAX(B8:C12,2,L7:L8) -> 0
A11: 午前中から受入を行う場合 | L11: 区分
A12: 新たに、終日受入を行う場合 | L12: 新たに、終日受入を行う場合
A13: ※２以上の単位を用いて児童受入を行う場合や、１単位が40人以上の場合は、事業内容欄に各単位ごとの児童数、支援員等の数を記載すること。
L14: 区分
A15: 新たに雇用する支援員等の資格等について | L15: 区分
C16: 保育士 | D16: 社会福祉士 | E16: その他 | F16: 補助員 | G16: 備考 | K16: 既存の院内保育施設を活用し受入を行う場合
A17: =CONCATENATE("新たに雇用した支援員等の数 ",SUM(G11:G12),"人") -> 新たに雇用した支援員等の数 0人 | K17: 区分
A18: ※その他を選択した場合は、「放課後児童健全育成事業の設備及び運営に関する基準」第10条に規定されている基準の該当か所を備考欄に記載すること。
A19: ※補助員を選択した場合は、備考欄に同条に規定されている放課後児童支援員の要件を満たす基準を有する職員数を支援単位ごとに記載すること。
L20: 区分
A21: 児童一人あたり面積について | L21: 区分
B22: 児童受入に用いる施設区画の面積 | L22: 午前中から受入を行う場合
C23: ÷ | D23: =CONCATENATE("受入児童全体の数 ",SUM(D11:D12),"人") -> 受入児童全体の数 0人 | F23: ＝ | G23: =IFERROR(B23/SUM(D11:D12),"左、区画面積を入力ください") -> 左、区画面積を入力ください | L23: 区分
A24: ※専用区画の面積は、児童１人につきおおむね1.65㎡以上が基準になっています。
A26: 事業内容
L62: 既存の院内保育施設を活用し受入を行う場合
L63: 新たに、終日受入を行う場合

Sheet 別紙２（２）
A1: 2.所要額明細
E3: （補助事業者名）
A4: １．支出
A5: 小学校の臨時休校に伴う病院内保育所等の対応に係る財政支援事業
A6: 区分 | B6: 支出予定額 | C6: 基準額 | D6: 選定額 | E6: 算出内訳
B7: 円 | C7: 円 | D7: 円
A8: 職員基本給
A9: 職員諸手当
A10: 非常勤職員手当
A11: 社会保険料
A12: 保険料（社会保険料を除く。）
A13: 雑役務費
A14: 委託費（上記に掲げる経費に該当するもの。）
A15: 合計 | B15: =SUM(B8:B14) -> 0 | C15: =IF(B15=0,0,'別紙２（２）基準額算出調書 '!H4) -> 0 | D15: =MIN(B15,C15) -> 0
A16: その他
A18: 合計 | B18: =SUM(B16:B17) -> 0
A19: 総事業費 | B19: =SUM(B15,B18) -> 0
A20: 注） １．その他欄は補助対象以外の経費を計上すること。
A22: ２．収入
A23: 区分 | D23: 収入見込額 | E23: 算出内訳
D24: 円
A25: 寄付金その他の収入
A26: 合計 | D26: =SUM(D25) -> 0

Sheet 別紙２（２）基準額算出調書 
A1: 基準額算出調書
A3: １．種目 | B3: ２．基準額
F4: 合計 | H4: =H5+H14+H19 -> 30000
A5: （1）臨時休校に伴い、午前中から学童の受け入れを行う場合 | B5: 次により算出された額 | H5: =H7+H11 -> 0
D6: 延日数
B7: 10,200円×延日数 | E7: ='別紙2（１）'!C11 -> 0 | F7: 日 | H7: =E7*10200 -> 0
A9: （２）臨時休校に伴い、新たに終日学童保育の受け入れを行う場合 | B9: 次により算出された額
D10: 延日数
B11: 36,000円×延日数 | E11: ='別紙2（１）'!C12 -> 0 | F11: 日 | H11: =E11*36000 -> 0
A14: 共済掛金等 | B14: 次により算出された額 | H14: =SUM(H17:H18) -> 0
B16: 200円×受入児童数 | D16: 受入児童数
E17: ='別紙2（１）'!E11+'別紙2（１）'!E12 -> 0 | F17: 人 | G17: =IF(C17="","",'別紙２（２）基準額算出調書 '!$H5) | H17: =E17*200 -> 0
A19: 臨時・追加的に児童受け入れを行うことによる事務手数料 | B19: 事務手続きに要した額 | H19: =SUM(H21) -> 30000
B21: 30,000円 | H21: =30000 -> 30000
G22: =IF(C22="","",'別紙２（２）基準額算出調書 '!$H15)
